BEGIN:VCALENDAR
VERSION:2.0
METHOD:PUBLISH
BEGIN:VEVENT
UID:WILD_APRICOT_EVENT_3284813_SESSION_1
DTSTART:20190727T200000Z
DTEND:20190728T010000Z
SUMMARY:BR 35 Glengallen\, Jumpers & Jazz in July
LOCATION:To Be Confirmed
DESCRIPTION:https://www.bmwcq.com.au/event-3284813\n\n\n\n  \n\n  Winter is upon and we are headed west through the scenic rim and granite belt to the historic Glengallen Homestead near Warwick.\n  http://www.glengallan.com.au/\n\n  Our Hosts at the homestead will provide a cooked buffet breakfast and tour of the restored homestead for just $30 per adult and $15 for children 12 years and under.\n  After breakfast and homestead tour you may choose to head into Warwick to enjoy the Jumpers & Jazz in July Festival or tag-a-long as we make our way back to Brisbane.\n  Please ensure you register here on the website\, numbers are critical for catering. You must provide details of all guests including children.\n  Please bring correct money in cash with you on the day. ALL money must be collected at registration in the morning prior to leaving. Card payment will not be available.\n\n  https://www.facebook.com/JumpersandJazzinJuly/\n\n  \n\n
DTSTAMP:20190228T204546Z
END:VEVENT
END:VCALENDAR
