BEGIN:VCALENDAR
VERSION:2.0
METHOD:PUBLISH
BEGIN:VEVENT
UID:WILD_APRICOT_EVENT_3275275_SESSION_1
DTSTART:20190713T220000Z
DTEND:20190713T220000Z
SUMMARY:RACQ Motorfest - BMWCQ Show of Excellence
LOCATION:Eagle Farm Racecourse
DESCRIPTION:https://www.bmwcq.com.au/event-3275275\n\n\n\n  RACQ Motorfest - Show N Shine vehicle display\n\n  The BMW Club Queensland display at RACQ Motorfest each year is one of the largest at the event and certainly one of the most prominent\, popular\, interesting\, colourful and fun.  \n\n  Members entry is free\n \n Join club members in giving your BMW an ultimate annual clean and showing it off to the thousands of people who attend Motorfest each year. \n
DTSTAMP:20190228T204533Z
END:VEVENT
END:VCALENDAR
