BEGIN:VCALENDAR
VERSION:2.0
METHOD:PUBLISH
BEGIN:VEVENT
UID:WILD_APRICOT_EVENT_3163660_SESSION_1
DTSTART:20190525T210000Z
DTEND:20190526T050000Z
SUMMARY:Mcleans Bridge Car Show
LOCATION:Belmont Rifle Range
DESCRIPTION:https://www.bmwcq.com.au/event-3163660\n\nCome and show your car and enjoy the hundreds of other cars on show.\n  Hosted by the Lotus Car Club.\n  2019 Mac'sBridge2019_A5 Flyer_01.pdf\n\n
DTSTAMP:20190228T204448Z
END:VEVENT
END:VCALENDAR
