BEGIN:VCALENDAR
VERSION:2.0
METHOD:PUBLISH
BEGIN:VEVENT
UID:WILD_APRICOT_EVENT_3163656_SESSION_1
DTSTART:20190608T220000Z
DTEND:20190608T230000Z
SUMMARY:ICC Charity Day - Happy Laps
LOCATION:Lakeside
DESCRIPTION:https://www.bmwcq.com.au/event-3163656\n\nA chance to drive your street car on the iconic Lakeside track\, following a sumptuous breakfast.  All proceeds from the Happy Laps go to our charity donation for the day.\n
DTSTAMP:20190228T204522Z
END:VEVENT
END:VCALENDAR
