BEGIN:VCALENDAR
VERSION:2.0
METHOD:PUBLISH
BEGIN:VEVENT
UID:WILD_APRICOT_EVENT_3163651_SESSION_1
DTSTART:20190608T140000Z
DTEND:20190609T140000Z
SUMMARY:5th Annual ICC Charity Day Regularity
LOCATION:Lakeside
DESCRIPTION:https://www.bmwcq.com.au/event-3163651\n\nPut your team together for this years Charity Day where we raise funds for our designated charities for the year.  A great fun\, lighthearted day where\, just by attending\,  you can actually make a difference in someones life.\n
DTSTAMP:20190228T204511Z
END:VEVENT
END:VCALENDAR
