BEGIN:VCALENDAR
VERSION:2.0
METHOD:PUBLISH
BEGIN:VEVENT
UID:WILD_APRICOT_EVENT_3163618_SESSION_1
DTSTART:20190216T210000Z
DTEND:20190217T100000Z
SUMMARY:ICC Rnd 1 - Short Course Sprint - DTC Lakeside
LOCATION:Lakeside Driver Training Circuit
DESCRIPTION:https://www.bmwcq.com.au/event-3163618\n\nA chance to represent our Club and earn points in round 1 of this years InterClub Challenge hosted by the Lotus Club.\n  These are a fun\, yet challenging\, relatively low speed event\, run on the Driver Training Circuit at Lakeside.  Come and give it a try and earn some points for our club in this years InterClub Challenge.  Bookings are open till lunch time Friday.  Follow the link below for more information and to enter.\n  https://www.lotusclubqueensland.com/dtc-17th-february-2019/\n\n
DTSTAMP:20190228T204557Z
END:VEVENT
END:VCALENDAR
