BEGIN:VCALENDAR
VERSION:2.0
METHOD:PUBLISH
BEGIN:VEVENT
UID:WILD_APRICOT_EVENT_3163591_SESSION_1
DTSTART:20190208T210000Z
DTEND:20190209T070000Z
SUMMARY:Mt Cotton Hill Climb - Come and Try\, Test and Tune
LOCATION:Mt Cotton Hill Climb facility
DESCRIPTION:https://www.bmwcq.com.au/event-3163591\n\nMore Details To Come.\n
DTSTAMP:20190228T204608Z
END:VEVENT
END:VCALENDAR
