BEGIN:VCALENDAR
VERSION:2.0
METHOD:PUBLISH
BEGIN:VEVENT
UID:WILD_APRICOT_EVENT_3163574_SESSION_1
DTSTART:20190207T213000Z
DTEND:20190208T060000Z
SUMMARY:Rnd 2 Btuned Sprint Series - Lakeside
LOCATION:Lakeside Park
DESCRIPTION:https://www.bmwcq.com.au/event-3163574\n\nOur first track day for the year sees us return to Lakeside for a full day of track sprint action.\n  What better way to get the year rolling than bring your BMW\, or other suitable car for that matter\, out and enjoy it in the manner it was intended.\n  Whether first time novice or experienced racer\, our days cater for all\, in an open\, warm and friendly manner.  Our more experienced members will be on hand to answer any of your questions\, and don't miss the track walk in the morning\, where one of our experienced drivers will talk you through all the different parts of the track\, passing on some of their great knowlege.\n  We have a capped number to maximise track time\, as our last day sold out\, don't delay and enter now so you can ensure you don't miss out.\n
DTSTAMP:20190228T204631Z
END:VEVENT
END:VCALENDAR
