BEGIN:VCALENDAR
VERSION:2.0
METHOD:PUBLISH
BEGIN:VEVENT
UID:WILD_APRICOT_EVENT_3147419_SESSION_1
DTSTART:20190202T063000Z
DTEND:20190202T110000Z
SUMMARY:Night Ride 22 - Grease sing a Long
LOCATION:Mount Gravatt Lookout
DESCRIPTION:https://www.bmwcq.com.au/event-3147419\n\n\n  Night ride 22 - Grease sing-a-long is the first drive event of 2019\n  As always we look to bring you something different and entertaining with these events. Movie starts at 7:00pm and you will need to pre purchase your tickets prior to event. I am told these events often sell out fast\, so the sooner you get your tickets the better it will be for you. Please follow the link below.\n  We will be meeting at Mount Gravatt Lookout from 4:30pm\, line up on the road out front facing west. From here we will take an nice i hour cruise leaving at 5pm. This will allow us plenty of time to arrive at the drive in \, get parked up and comfortable for the movie.\n  Bonus points for those of you who dress in character. Lads this will be an awesome date night for your partners.\n\n  To purchase your tickets follow this link\n  https://ticketing.oz.veezi.com/purchase/81098?siteToken=67p14kvj66sgcqazvbgcz1yqvw&fbclid=IwAR0UHVeUmNibYvVVLPcWxpxtkK5f7-q4Kvzl8me8oHohTlYIg_5kxquwaRI\n\n
DTSTAMP:20190228T204642Z
END:VEVENT
END:VCALENDAR
