BEGIN:VCALENDAR
VERSION:2.0
METHOD:PUBLISH
BEGIN:VEVENT
UID:WILD_APRICOT_EVENT_3131169_SESSION_1
DTSTART:20181130T220000Z
DTEND:20181130T233000Z
SUMMARY:InterClub Challenge End of Year Celebration and Trophy Presentation
LOCATION:The Bardon Shed
DESCRIPTION:https://www.bmwcq.com.au/event-3131169\n\nWe have had a terrific year of varied MotorSport\, with the InterClub Challenge becoming more popular.  Its time to celebrate that success and reward the winning Club and individuals.\n  So\, come along – bring family\, friends\, and fellow competitors to  “The Bardon Shed”\, 8 Runic St Bardon\, on December 1st @ 8:00am\, and celebrate all those who participated this year…. Club Outright Winners\, plus Individuals to collect the spoils of all their efforts.\n  \n\n  \n\n
DTSTAMP:20190228T204813Z
END:VEVENT
END:VCALENDAR
