BEGIN:VCALENDAR
VERSION:2.0
METHOD:PUBLISH
BEGIN:VEVENT
UID:WILD_APRICOT_EVENT_3129009_SESSION_1
DTSTART:20181214T100000Z
DTEND:20181214T124500Z
SUMMARY:The Last Supper
LOCATION:To be advised at December Club Meeting
DESCRIPTION:https://www.bmwcq.com.au/event-3129009\n\n\n\n  After the last club meeting (which is held at Westside BMW\, 275 Monier Road\, Darra) for 2018\, we retire to Dave Ross's house (5 minutes drive) for some great food\, a few drinks and a catch up with club mates before we break for the Christmas Holidays.   \n\n  This is a "BMWCQ Members and their Guests" only event.\n  The address will be given out at the meeting on the same night.\n  The Ross's will be be putting on a spread to behold that will include:-\n  Something different...\n  Beer\, wine and soft drinks are also provided.\n\n  You will need to register as we need to know how much to cater for.\n\n  \n\n  \n\n
DTSTAMP:20190228T204739Z
END:VEVENT
END:VCALENDAR
