BEGIN:VCALENDAR
VERSION:2.0
METHOD:PUBLISH
BEGIN:VEVENT
UID:WILD_APRICOT_EVENT_3122551_SESSION_1
DTSTART:20181215T200000Z
DTEND:20181216T010000Z
SUMMARY:Mystery Run & Christmas Celebrations
LOCATION:Eagle Heights Mountain Resort
DESCRIPTION:https://www.bmwcq.com.au/event-3122551\n\n\n\n  \n\n  This year we have decided to combine the end of year Christmas Celebration with a 'Mystery Run' that's right you get to enjoy both our famous Breaky Run along with a Social gather all in one.\n  Now the Meeting point will be kept a secret\, hence 'Mystery Run' and only made know to those who have registered online for the event. What we can tell you is the meet point will be somewhere to the west of Brisbane.\n  Attendees will be treated to a full buffet breakfast atop the Gold Coast Hinterland with magical views to Surfers Paradise and beyond. As usual the club will subsidize for our financial members.\n  \n\n  If the boys and girls are well behaved\, Santa my even make an appearance. A free jumping castle will be on site for the little ones too.\n\n  For the mystery runners you must be at the meet point for check in by 6am\, briefing will be at 6:20am ready for a 6:30am departure.\n  20-11-2018 addition..\n  After breakfast a convoy of those who are interested will head down to mountain to TopGolf Gold Coast for a little all in family fun.. No bookings required\, payment on arrival at top golf.\n  https://topgolf.com.au/?gclid=Cj0KCQiA28nfBRCDARIsANc5BFC16hRxJrCdEfs8bx3GAXtRYnapYaKOGOvpEoNeHhz5-YJql6xWhHoaAgOLEALw_wcB&gclsrc=aw.ds\n\n
DTSTAMP:20190228T204728Z
END:VEVENT
END:VCALENDAR
