BEGIN:VCALENDAR
VERSION:2.0
METHOD:PUBLISH
BEGIN:VEVENT
UID:WILD_APRICOT_EVENT_3122549_SESSION_1
DTSTART:20181214T083000Z
DTEND:20181214T100000Z
SUMMARY:BMWCQ December Meeting
LOCATION:Westside BMW
DESCRIPTION:https://www.bmwcq.com.au/event-3122549\n\n\n\n  \n\n  \n\nOur last club meeting for 2018 is upon us.\n  The meeting is a great opportunity to catch up with club mates new and old\, or introduce yourself to the club if you are new to our community. The club meetings are also a great way to find out about the happenings of your club and have a say in the future of club events and happenings.\n\n  We do of course have our formalities that we need to cover\, however we try to keep the meetings light hearted\, fun and social. Light snacks will be provided and we will head to the somewhere nearby  for a refreshing beverage and meal afterwards should you wish to join us.\n  Please register via the web link\n  See you on the night\n
DTSTAMP:20190228T204750Z
END:VEVENT
END:VCALENDAR
