BEGIN:VCALENDAR
VERSION:2.0
METHOD:PUBLISH
BEGIN:VEVENT
UID:WILD_APRICOT_EVENT_3100015_SESSION_1
DTSTART:20181109T083000Z
DTEND:20181109T100000Z
SUMMARY:BMWCQ November Meeting
LOCATION:Brisbane BMW
DESCRIPTION:https://www.bmwcq.com.au/event-3100015\n\n\n\n  \n\n  Fellow members\, guests and friends of BMW Club Queensland.\n  Our clubs November Meeting is taking place on November 9th . Our ever gracious host and good friends of the club Brisbane BMW are more than happy to have us once again.\n  The meeting is a great opportunity to catch up with club mates new and old\, or introduce yourself to the club if you are new to our community. The club meetings are also a great way to find out about the happenings of your club and have a say in the future of club events and happenings.\n\n  We do of course have our formalities that we need to cover\, however we try to keep the meetings light hearted\, fun and social. Light snacks will be provided and we will head to the somewhere nearby  for a refreshing beverage and meal afterwards should you wish to join us.\n  Please register via the web link\n  See you on Friday Night\n
DTSTAMP:20190228T204835Z
END:VEVENT
END:VCALENDAR
