BEGIN:VCALENDAR
VERSION:2.0
METHOD:PUBLISH
BEGIN:VEVENT
UID:WILD_APRICOT_EVENT_3094378_SESSION_1
DTSTART:20181012T083000Z
DTEND:20181012T103000Z
SUMMARY:BMWCQ October Meeting
LOCATION:Westside BMW
DESCRIPTION:https://www.bmwcq.com.au/event-3094378\n\n\n\n  \n\n  Fellow members\, guests and friends of BMW Club Queensland.\n  Our clubs October Meeting is taking place this coming Friday October 12. Our ever gracious host and good friends of the club Westside BMW are more than happy to have us once again.\n  The meeting is a great opportunity to catch up with club mates new and old\, or introduce yourself to the club if you are new to our community. The club meetings are also a great way to find out about the happenings of your club and have a say in the future of club events and happenings.\n\n  We do of course have our formalities that we need to cover\, however we try to keep the meetings light hearted\, fun and social. Light snacks will be provided and we will head to the Monier Hotel for a refreshing beverage and meal afterwards should you wish to join us.\n  Good new is we have a brand new design in club shirts for both males and females. You will be able to place an order for these shirts on Friday Night at the meeting. So for your change to be among the very first to get your hands on a new club shirt you need to come along.\n  Please register via the web link\n  See you on Friday Night\n  \n\n
DTSTAMP:20190228T204920Z
END:VEVENT
END:VCALENDAR
