BEGIN:VCALENDAR
VERSION:2.0
METHOD:PUBLISH
BEGIN:VEVENT
UID:WILD_APRICOT_EVENT_3054032_SESSION_1
DTSTART:20180907T083000Z
DTEND:20180907T110000Z
SUMMARY:BMWCQ September Meeting
LOCATION:Brisbane BMW
DESCRIPTION:https://www.bmwcq.com.au/event-3054032\n\n\n\n  \n\n  Its that time of them month again where we come together as a club and discuss the on goings within the club. Events past and upcoming are all on the agenda.\n\n  The club meetings are your opportunity to join in the conversation and have your say. We encourage all members to come along get involved and be apart of making your club great.\n\n  Guests are more than welcome to come along\, meet some of our members and see just what BMW Club Queensland is all about.\n  Whilst we have a few formalities we must cover our meetings are social and friendly in a relaxed environment. Light snacks will be provided\, afterwards several of us head somewhere to have a bite to eat\, everyone is invited to come along for the fun.\nPlease be sure to register online if you are attending and wish to earn you member point. If you cannot make it please send your apologies via the website
DTSTAMP:20190228T205031Z
END:VEVENT
END:VCALENDAR
