BEGIN:VCALENDAR
VERSION:2.0
METHOD:PUBLISH
BEGIN:VEVENT
UID:WILD_APRICOT_EVENT_3049479_SESSION_1
DTSTART:20180926T083000Z
DTEND:20180926T123000Z
SUMMARY:Night Run 21 'Return to the Worms'
LOCATION:BP Stapylton
DESCRIPTION:https://www.bmwcq.com.au/event-3049479\n\n\n\n  Night rides are back....\n  \n\n  Are you ready to return to the worms?\n\n  Due to popular request we are headed back to the Gold Coast Hinterland to see the glow worms if all their glory. If you have been before you will know just what a magic experience this is. If you have never been before you are if for a treat. \n  Pack up the kids\, they will enjoy this as much as you do. Grab yourself an early dinner and join us for this mid week adventure in the rain forest.\n  You will need to bring warm clothing\, a torch and perhaps some insect repellent. There is a short very easy stroll through the rain forest so good footwear is recommended.\n  Please ensure to arrive on time\, grab yourself something to eat prior. On the way home we will stop at a location  to be advised for a cold refreshing beverage.\n\n
DTSTAMP:20190228T204954Z
END:VEVENT
END:VCALENDAR
