BEGIN:VCALENDAR
VERSION:2.0
METHOD:PUBLISH
BEGIN:VEVENT
UID:WILD_APRICOT_EVENT_2996844_SESSION_1
DTSTART:20180713T083000Z
DTEND:20180713T100000Z
SUMMARY:BMW Club Queensland July Meeting
LOCATION:Brisbane BMW
DESCRIPTION:https://www.bmwcq.com.au/event-2996844\n\n\n\n  Your committee would like to invite and welcome each and every member to attend the monthly Club meeting.  We would like to especially invite our recent new members\, old members and potential new members to come along and join in the fun whilst finding out what is happening within your club.\n  This Friday\, we will be updating you all with final details for RACQ Motorfest 2018 and a report on the hugely successful Charity Fundraiser event at Lakeside - so don't miss out.  \n  Light refreshments will be served.\n  Afterwards feel free to head down to Grilled with us for dinner/snacks and a cleansing ale.\n  Looking forward to seeing you all there.\n  Cheers\n  Warwick\n  Warwick Prince\n President\n BMW Club Queensland\n
DTSTAMP:20190228T205301Z
END:VEVENT
END:VCALENDAR
