BEGIN:VCALENDAR
VERSION:2.0
METHOD:PUBLISH
BEGIN:VEVENT
UID:WILD_APRICOT_EVENT_2988440_SESSION_1
DTSTART:20180728T234500Z
DTEND:20180729T040000Z
SUMMARY:BMWCQ 6er register: Run to lunch out west
LOCATION:Calamvale Hotel carpark
DESCRIPTION:https://www.bmwcq.com.au/event-2988440\n\nWhen: 9:45am for a 10am sharp departure.\nDate: Sunday 29th July 2018.\nWhere: Calamvale Hotel carpark.\n\nMeet at Calamvale hotel carpark at 9:45am for a 10am departure. Then we run out through Beadesert\, Aratula and on to Nobby Pub via Clifton for lunch at 12:45.\n\nThen we return to Brisbane via the amazing MaMa creek road.\n\nAll 6er model and other BMW classic cars welcome to join the BMWCQ 6er register for this great event.\n\nJohn Fairman\nBMW 6er Register 
DTSTAMP:20190228T205215Z
END:VEVENT
END:VCALENDAR
