BEGIN:VCALENDAR
VERSION:2.0
METHOD:PUBLISH
BEGIN:VEVENT
UID:WILD_APRICOT_EVENT_2958086_SESSION_1
DTSTART:20180604T140000Z
DTEND:20180610T010000Z
SUMMARY:Pre-purchase your raffle tickets\, if you cant be there on the day
LOCATION:
DESCRIPTION:https://www.bmwcq.com.au/event-2958086\n\nPre-purchase your raffle tickets if you want to be in with a chance for some excellent prizes\, including a 5 series BMW for a weekend\, a passenger ride in a Porsche GT3 on the day\, weekends away\, restaurant vouchers and lots more.  Tickets are just $10 for a book of 10 tickets.\n\n
DTSTAMP:20190228T205420Z
END:VEVENT
END:VCALENDAR
