BEGIN:VCALENDAR
VERSION:2.0
METHOD:PUBLISH
BEGIN:VEVENT
UID:WILD_APRICOT_EVENT_2956542_SESSION_1
DTSTART:20180608T083000Z
DTEND:20180608T100000Z
SUMMARY:BMW Club Queensland June Meeting
LOCATION:Westside BMW
DESCRIPTION:https://www.bmwcq.com.au/event-2956542\n\n\n  Your committee would like to invite and welcome each and every one to attend the monthly Club meeting.  We would like to especially invite our recent new members\, old members and potential new members to come along and join in the fun whilst finding out what is happening within your club.\n  This Friday\, we will be updating you all with the state of fund raising for the Charity Event on Sunday\, and also providing more details for the day - so don't miss out.  \n  Light refreshments will be served.\n  Afterwards we we head down to the Monier Hotel for dinner and a cleansing ale.\n  Looking forward to seeing you all there.\n\n
DTSTAMP:20190228T205357Z
END:VEVENT
END:VCALENDAR
