BEGIN:VCALENDAR
VERSION:2.0
METHOD:PUBLISH
BEGIN:VEVENT
UID:WILD_APRICOT_EVENT_2935706_SESSION_1
DTSTART:20180609T214500Z
DTEND:20180609T233000Z
SUMMARY:BMWCQ/InterClub Car Happy Laps - proudly supporting our combined charities
LOCATION:Lakeside Raceway\, Lakeside Road Kurwongbah
DESCRIPTION:https://www.bmwcq.com.au/event-2935706\n\nA chance to drive your car the way it was intended and help out our club charities as well\n\n  \n\nEver a club favourite\, Happy Laps never fails to put a smile on everybody's face. One of the best value events for all attendees. You have the opportunity to drive your everyday car on Lakeside Raceway under a controlled and safe environment on a speed regulated track.  $35  ($40 non-members) gets you 20 minutes of track time after a full buffet breakfast.  Proceeds from the morning will be going to the total for the day for our combined charities\n      * Arrive 7:45 AM for breakfast at 8:00am\n\n        * On track at 9:10am\n\n        * Depart by 9:30 am giving you the full day to yourself or hang around for the regularity.\n\n\n  Remember this is NOT a track day\, speeds are regulated and no helmets or safety clothing are required. It's an opportunity to drive your own vehicle on Lakeside Raceway and experience driving at a slightly more spirited pace than you can on public roads.\n\n
DTSTAMP:20190228T205313Z
END:VEVENT
END:VCALENDAR
