BEGIN:VCALENDAR
VERSION:2.0
METHOD:PUBLISH
BEGIN:VEVENT
UID:WILD_APRICOT_EVENT_2916767_SESSION_1
DTSTART:20180511T083000Z
DTEND:20180511T110000Z
SUMMARY:BMWCQ Club Meeting
LOCATION:Brisbane BMW
DESCRIPTION:https://www.bmwcq.com.au/event-2916767\n\n\n\n  \n\n  This is our monthly club meeting where members\, guests and friends are invited to attend.\n\n  This month will be held at Brisbane BMW 800 Ann Street Fortitude Valley\, there is plenty of parking on site and overflow street parking.\n\n  \n\n  This month we have arranged for a special presentation by Andrew Hillcoat of Brisbane BMW Special Vehicles on the current model BMW M3 followed by Q&A time. This is your chance for some up close and personal time to find out all you ever wanted to know about the M3.\n  There will be the usual club meeting and a talk from club Social Director Dan Hohnke who recently attended the BMW Clubs Australia AGM in Melbourne on Warwick Princes behalf.\n\n  After the meeting closes we well head on down to Grilld Burgers at Emporium for a social catch up over a delicious burger and cold beverage\, you may even duck next door for an icecream treat.\n\n
DTSTAMP:20190228T205554Z
END:VEVENT
END:VCALENDAR
