BEGIN:VCALENDAR
VERSION:2.0
METHOD:PUBLISH
BEGIN:VEVENT
UID:WILD_APRICOT_EVENT_2860544_SESSION_1
DTSTART:20180420T083000Z
DTEND:20180420T110000Z
SUMMARY:BMW Club Queensland Annual General Meeting
LOCATION:38 Finsbury Street Newmarket
DESCRIPTION:https://www.bmwcq.com.au/event-2860544\n\n\n\n  \n\n  This is the big important meeting of the year. Committee Positions are all up for grabs and every member is welcome to nominate. Only members can vote on the committee members.\n  This time for something a little different the AGM  will be hosted by our clubs Motorsports Sponsor Sommer Car Care at 38 Finsbury Street Newmarket. The will be a sausage sizzle\, cold drinks and nibbles available on the night.\n\n  Members our meetings are an open forum where you get to find out exactly what is happen within your club.\n  Come along\, catch up with old friends\, meet some new ones and ask the questions you want to know. Our meetings are run in a fun\, friendly informal format but cover all the topics and are very informative.\n  Thinking about joining BMW Club Qld? You are more than welcome to come along to a meeting and get to know us.\n  Occasionally we will have an informative guest speaker to add a little more interest to the meeting.\n\n  Usually once the meeting is closed we head to a nearby restaurant for a casual get together over a nice meal.\n  Please arrive at 6:30pm\n\nMeeting starts at 7:00pm.
DTSTAMP:20190228T205711Z
END:VEVENT
END:VCALENDAR
