BEGIN:VCALENDAR
VERSION:2.0
METHOD:PUBLISH
BEGIN:VEVENT
UID:WILD_APRICOT_EVENT_2843288_SESSION_1
DTSTART:20180714T220000Z
DTEND:20180715T060000Z
SUMMARY:Show of Excellence @ RACQ Motorfest
LOCATION:Eagle Farm Racecourse
DESCRIPTION:https://www.bmwcq.com.au/event-2843288\n\n\n\n  \n\n  Show of Excellence is BMWCQ's premier display event of the year. This is where club members detail\, clean\, shine and polish every piece of their pride and joy and put her/him on display.\n  Cars are placed into their respective Klasse (based of year of production) and judged on appearance as they stand. There is a number of criteria that each vehicle is marked. Not only is there Klasse winners but there is also sub category winners such as\n\n      * Best Wheels\n\n        * Best Interior\n\n        * Best Audio\n\n        * Best Paint\n\n  So as you can see your car does not have to be 100 percent to be in the running for a trophy. Of course it all culminates to award the overall winner for the day. Now we are a club based on driving our cars\, so we take that into account when judging. A weighting system is used\, kind of like a handicap in golf. So if your car is a garage queen it will be judged harder than if it were a daily driver. All are on an even playing field.\n  For the ladies that are into their rides and like to keep them shined and looking immaculate we have a ladies klasse trophy just for you.\n  Now the winners are announced at the clubs Awards & Celebrations Night to be held later in August.\n\n  You can if you wish participate in the display and not be judged\, You will however obtain yourself prime parking for the event.\n\n  Please beware\, do not register for motorfest via the motorfest website. BMWCQ has per-purchased an allocation. You must register via the link here\,\n\n
DTSTAMP:20190228T205238Z
END:VEVENT
END:VCALENDAR
