BEGIN:VCALENDAR
VERSION:2.0
METHOD:PUBLISH
BEGIN:VEVENT
UID:WILD_APRICOT_EVENT_2843280_SESSION_1
DTSTART:20180526T220000Z
DTEND:20180527T060000Z
SUMMARY:MacLeans Bridge Display
LOCATION:Belmont Rifle Range
DESCRIPTION:https://www.bmwcq.com.au/event-2843280\n\n\n\n  Hope you have kept your pride and joy looking clean and polished from last weeks went?\n  Macleans Bridge Display is an inter-club event hosted by the Triumph Sports Owners Association Queensland. Here is your opportunity to help your club gain some points in the inter-club challenge by simply participating in the display.\n  Great autos new and old of every make will be on display so there will be plenty to feast your eyes upon.\n\n  To participate simply turn up at the Belmont Rifle Range\, BMWCQ will have an allocated spot. But please you must register here so we can ensure ample of room for everyone.\n  Entry is $15 per display vehicle and $10 per additional passenger. Payable at the gate. Food and beverages will be available on site.\n\n
DTSTAMP:20190228T205431Z
END:VEVENT
END:VCALENDAR
