BEGIN:VCALENDAR
VERSION:2.0
METHOD:PUBLISH
BEGIN:VEVENT
UID:WILD_APRICOT_EVENT_2843276_SESSION_1
DTSTART:20180519T203000Z
DTEND:20180521T060000Z
SUMMARY:David Hack Memorial Day
LOCATION:BP Service Station Blacksoil
DESCRIPTION:https://www.bmwcq.com.au/event-2843276\n\n\n\n  Once again we head back up the rang for this\, the 20th Anniversary year of the David Hack Memorial Day in Toowoomba.\n  Join us at BP Blacksoil for a pre meet\, grab a coffee and a bite to eat before we convoy up the Warrego Highway making our way to the old Toowoomba airport.\n\n  Wash and polish your machine\, it will be on display amongst many other vehicles from vintage\, to modern and everything in between including war rigs\, motorbikes and of course the classic air craft.\n\n  This is absolutely a great day out and well worth the drive u the range\, Just remember to pack some warm clothing.\n  https://www.facebook.com/davidhackclassic/\n\n
DTSTAMP:20190228T205509Z
END:VEVENT
END:VCALENDAR
