BEGIN:VCALENDAR
VERSION:2.0
METHOD:PUBLISH
BEGIN:VEVENT
UID:WILD_APRICOT_EVENT_2843273_SESSION_1
DTSTART:20180506T000000Z
DTEND:20180506T000000Z
SUMMARY:Doggies Day Out
LOCATION:Faulkner Graceville Dog Park
DESCRIPTION:https://www.bmwcq.com.au/event-2843273\n\n\n\n  \n\n  Come one come all as  we warm up for the Easter Break. Doggies Day Out is an opportunity for you to bring your furbabies out to meet each other and enjoy this awesome off leash dog park.\n  There is plenty of space to kick a ball swing a bat and play some games so feel free to bring what you have.\n\n  For the kiddies the park offers a great outdoor play area.\n  BMWCQ will provide a sausage sizzle bbq and cold drinks.\n\n  $5 for a can of drink or bottled water and a good ole traditional Aussie sanga. Please register by clicking below so we have an idea of numbers coming. Whilst we will endeavor  to have enough to go round it will be a first in first served basis.\n\n  Bring with you a picnic rug\, chairs to sit on\, sunscreen and what ever games and activities you fancy.\n\n  Parking is best on Leybourne Street.\n  \n\n
DTSTAMP:20190228T205616Z
END:VEVENT
END:VCALENDAR
