BEGIN:VCALENDAR
VERSION:2.0
METHOD:PUBLISH
BEGIN:VEVENT
UID:WILD_APRICOT_EVENT_2839322_SESSION_1
DTSTART:20180804T213000Z
DTEND:20180805T060000Z
SUMMARY:Rnd 8 Short Course Sprint Lakeside DTC
LOCATION:Lakeside Driver Training Circuit
DESCRIPTION:https://www.bmwcq.com.au/event-2839322\n\nRound 8 of our re-vamped Btuned club Sprint Series\, takes us back to lakeside\, but this time to the Driver Training Circuit at the back of the Lakeside complex for a combined Short Course Sprint event with the other InterClub Challenge Clubs and hosted by the Lotus Club.  These are a lower impact\, all bitumen event\, suitable for all levels of driver\, with a chance to test yourself against the clock.  Come and give it a try\, they are good fun yet challenging.\n  Entry is through the Lotus Club website.  \n  https://www.lotusclubqueensland.com/dtc-5th-august-2018/\n\n  There are a limited number of spaces available so don't delay and get your entry in ASAP.\n
DTSTAMP:20190228T205204Z
END:VEVENT
END:VCALENDAR
