BEGIN:VCALENDAR
VERSION:2.0
METHOD:PUBLISH
BEGIN:VEVENT
UID:WILD_APRICOT_EVENT_2839305_SESSION_1
DTSTART:20180720T210000Z
DTEND:20180721T070000Z
SUMMARY:Rnd 7 Btuned and InterClub Challenge Sprint\, Morgan Park
LOCATION:Morgan Park\, Warwick
DESCRIPTION:https://www.bmwcq.com.au/event-2839305\n\nRnd 7 of our Sprint Series\, and the first for our new MotorSport Sponsor Btuned sees us return to Morgan Park at Warwick for a day of sprint action on Saturday 21 July 2018 hosted by the Porsche Club.  This will also be another round of the InterClub Challenge\, so a chance for you to represent our club against the other clubs.\n  The cost will be just $150 per entry. This is the link to the Porsche club website you MUST enter and pay there.\n\n  http://www.pcqld.org.au/PorscheClubs/pc_queensland/PCForms.nsf/RefActions/489795C442A136DDC12582C4007B0E79?EditDocument\n\n  Don't forget to enter here on our club site as well\, so we know you are attending.\n  \n\n  \n\n  \n\n
DTSTAMP:20190228T205227Z
END:VEVENT
END:VCALENDAR
