BEGIN:VCALENDAR
VERSION:2.0
METHOD:PUBLISH
BEGIN:VEVENT
UID:WILD_APRICOT_EVENT_2835489_SESSION_1
DTSTART:20190129T140000Z
DTEND:20190204T140000Z
SUMMARY:Bathurst 12 Hr Annual Trip 2019- now 5 Nights Wed 30 Jan - Mon 4 Feb.
LOCATION:Bathurst NSW
DESCRIPTION:https://www.bmwcq.com.au/event-2835489\n\nOur annual pilgrimage to the sacred mountain has been extended with competition now commencing on the Thursday\, so we are now beginning a day earlier on Wednesday 30 January to Monday 4 February 2019  (5 nights).  If you would like to experience the excitement of the 12 Hr race with its collection of the worlds best drivers and cars including Ferrari\, Lamborghini\, Bentley\, Mercedes\, Audi\, and of course the the glorious BMW's\, and others\, then book your accommodation now. \n  Exact room cost will be sent when we know more of just how many we have coming.   You can expect to pay approx $525 total for a Queen Single room for the 5 nights\, $680 for a Queen room for 2 and $370 pp for a Twin Share room.\n  Our accommodation is all luxury houses with full amenities\, and all linen provided.  Centrally located in Bathurst and handy to the track.  The trip is a very social event\, both at the track and in the evenings\, If you wish\, for very minimal cost you can join us on the mountain where we BBQ for lunch every day and our now traditional\, bacon\, eggs and pancakes with maple syrup breakfast on Sunday morning is not to be missed.  In the evenings you can either join us for dinner and social gatherings in our main house in Keppel St or visit the many restaurants in Bathurst.\n  There is a multi payment scheme set up\, for those wanting to spread their payments\, with various links below.\n\n  Queen room – 2ppl  There are limited Ensuites available with a small extra fee. Please let me know if you require one.  These are on a first come basis.\n  https://www.paypal.com/cgi-bin/webscr?cmd=_s-xclick&hosted_button_id=JNU9N48ZXAR62\n  Queen room– 5 night Single\n  https://www.paypal.com/cgi-bin/webscr?cmd=_s-xclick&hosted_button_id=3TAT5LS5YLULW\n  Twinshare – 5 night per person\nhttps://www.paypal.com/cgi-bin/webscr?cmd=_s-xclick&hosted_button_id=FG4VMWQKPSBJ2  \n\n  Register here\n  https://www.bmwcq.com.au/event-2835489\n  Feel free to call and discuss the trip if you have any questions.\n  Denis Weisz\n  Bathurst 12HR Trip Coordinator\n  0408 742 617\n
DTSTAMP:20190228T204706Z
END:VEVENT
END:VCALENDAR
