BEGIN:VCALENDAR
VERSION:2.0
METHOD:PUBLISH
BEGIN:VEVENT
UID:WILD_APRICOT_EVENT_2835313_SESSION_1
DTSTART:20180520T220000Z
DTEND:20180521T070000Z
SUMMARY:SCC Sprint Day - Monday 21 May Qld Raceway
LOCATION:Qld Raceway Champions Way Willowbank.
DESCRIPTION:https://www.bmwcq.com.au/event-2835313\n\nRnd 5 of our Sommer Car Care Sprint Series and the second of our combined events with the MX5 Club\, is at Qld Raceway this time\, and again a full day of sprints.  This is our only full day at QR for the year\, and If anything like our visit there last year\, with the awsome array of original classic race cars and a full range of ///M cars\, its not to be missed.\n  Thanks to the participation of the MX5 club again\, we are able to keep the costs as low as possible with a full day of track action costing just $160 for members and $180 for non-members.  Don't delay and get your entries in ASAP.\n
DTSTAMP:20190228T205458Z
END:VEVENT
END:VCALENDAR
