BEGIN:VCALENDAR
VERSION:2.0
METHOD:PUBLISH
BEGIN:VEVENT
UID:WILD_APRICOT_EVENT_2835278_SESSION_1
DTSTART:20180609T213000Z
DTEND:20180610T053000Z
SUMMARY:SCC Interclub Regularity Charity Challenge
LOCATION:Lakeside Raceway\, Lakeside Road Kurwongbah
DESCRIPTION:https://www.bmwcq.com.au/event-2835278\n\n\n\n  Interclub Regularity Charity Challenge\n \n\n  Come and represent your club in this fun and challenging event.\n  \n\n  In 2015/16 we raised $15\,200. Last year we upped the ante to over $20\,000 with the aid of Dave Ross's fund raising efforts. What can we do this year?\n  Surely you want to be a part of this\, so read the fine print below.\n  For those that are not familiar with a Regularity event\, then the main thing is that you get to drive on the track in a group at higher speeds than you are allowed to do on the road.\n\n  The idea is not to try and break the lap record\, but to drive at your own CONSTANT pace to your nominated lap time\, gained from your initial practice.\n  Its all about staying as close as possible to that time\, because for every tenth of a second you are away from that time you receive a point or more.\n  The team and individual at the end of the day with the lowest aggregate points will be declared the winner\, so every team and person has an even chance at winning.\n  Entry is a 2 stage process:\n      *             Enter here and pay by the usual means        \n\n        *             Register on the Racers (Qld Raceways) site at https://racers.world/login\n       If you are not already registered with them\, you will need to do so\, and you then apply  for a RACERS licence. if you don't have one\, (either a day or yearly licence)\nWhen you have done that go to June on the calendar their you will see Regularity Challenge listing on the 10/06/2018. Click on that and enter there as well        \n\n If you have any queries\, please email to motorsport@bmwcq.com.au or call Denis Weisz on 0408 742 617.  Organise your club or office team and come and join this fun event.\n
DTSTAMP:20190228T205335Z
END:VEVENT
END:VCALENDAR
