BEGIN:VCALENDAR
VERSION:2.0
METHOD:PUBLISH
BEGIN:VEVENT
UID:WILD_APRICOT_EVENT_2809757_SESSION_1
DTSTART:20180324T201500Z
DTEND:20180324T201500Z
SUMMARY:BR #33- "The Presidents Run #2"
LOCATION:Ferny Grove Shopping Centre\, Settlement Road and Samford Road\, Ferny Grove
DESCRIPTION:https://www.bmwcq.com.au/event-2809757\n\n\n\n  PRESIDENTS RUN - TAKE 2\n  It is certainly an honour to be bestowed the presidency of the BMW Club Queensland. There has only been 7 in the clubs rich history.  To help celebrate our past and present Presidents\, four of them will be taking the lead of each of the groups on this\, our last breakfast run of the year.  Don't worry folks\, this is a walk in the park for these guys\, and they have done it many times before.\n  We are heading north this time and will be having breakfast right on the magnificent Pacific Ocean. We will be meeting at 6.15am sharp in the car park of the Ferny Grove Shopping Complex on the corner of  Samford Road and Settlement Road\, Ferny Grove for a briefing and we leave at 6.30am sharp.  Make sure you're fuelled and have your coffee and ready to go at 6.15am for the briefing.\n\n  We will be heading up through the beautiful Sunshine Coast Hinterland travelling on some of the best roads you will find before swinging down onto the beautiful Sunshine Coast and to our final destination\, the surf club at Marcoola for breakfast.  Breakfast is a $25pp buffet consisting of:-\n\n      *  2 types of Eggs (poached and fried)\n\n        * Bacon\n\n        * -Roast Tomato\n\n        * Baked Beans\n\n        * Mushrooms\n\n        * -Sausage\n\n        * -Hash Browns\n\n        * -3 types of breads to toast\n\n  I look forward to catching up with everyone and hope you can make it on the day.\n \n Please make sure you register any guests you are bringing.\n
DTSTAMP:20190228T205734Z
END:VEVENT
END:VCALENDAR
