BEGIN:VCALENDAR
VERSION:2.0
METHOD:PUBLISH
BEGIN:VEVENT
UID:WILD_APRICOT_EVENT_2808970_SESSION_1
DTSTART:20180928T140000Z
DTEND:20180929T140000Z
SUMMARY:BMWCQ E30 Register - meet & run Saturday 29/09/2018
LOCATION:TBC
DESCRIPTION:https://www.bmwcq.com.au/event-2808970\n\nBMWCQ E30 Register - meet & run Saturday 29/09/2018\n  Join us for a great BMWCQ E30 Register meet and run on Saturday the 29th September.\n  More specific details to come closer to the event\, in the meantime please register for the event so you get updates on this event to come.\n  BMWCQ E30 Register crew\n  \n   \n
DTSTAMP:20190228T204943Z
END:VEVENT
END:VCALENDAR
