BEGIN:VCALENDAR
VERSION:2.0
METHOD:PUBLISH
BEGIN:VEVENT
UID:WILD_APRICOT_EVENT_2808969_SESSION_1
DTSTART:20180922T140000Z
DTEND:20180923T140000Z
SUMMARY:BMWCQ E36 Register - run Sunday 23/09/2018
LOCATION:TBC
DESCRIPTION:https://www.bmwcq.com.au/event-2808969\n\nBMWCQ E36 Register - run Sunday 23/09/2018\n  Join us for another BMWCQ E36 Register run on Sunday the 23rd September.\n  More specific details to come closer to the event\, in the meantime please register for the event to stay up to date with it's details as they come.\n  BMWCQ E36 Register\n   \n  \n\n
DTSTAMP:20190228T205005Z
END:VEVENT
END:VCALENDAR
