BEGIN:VCALENDAR
VERSION:2.0
METHOD:PUBLISH
BEGIN:VEVENT
UID:WILD_APRICOT_EVENT_2808967_SESSION_1
DTSTART:20180915T140000Z
DTEND:20180916T140000Z
SUMMARY:BMWCQ E30 Register - meet & run Sunday 16/09/2018
LOCATION:TBC
DESCRIPTION:https://www.bmwcq.com.au/event-2808967\n\nBMWCQ E30 Register - meet & run Sunday 16/09/2018\n  Here we get together for another BMWCQ E30 register meet and run on Sunday the 16th September.\n  More specific details to come closer to the time\, in the meantime register for this event so you don't miss out on updates.\n  BMWCQ E30 Register crew\n  \n  \n\n  \n\n
DTSTAMP:20190228T205016Z
END:VEVENT
END:VCALENDAR
