BEGIN:VCALENDAR
VERSION:2.0
METHOD:PUBLISH
BEGIN:VEVENT
UID:WILD_APRICOT_EVENT_2808960_SESSION_1
DTSTART:20180511T213000Z
DTEND:20180512T020000Z
SUMMARY:BMWCQ E30 Register - run Saturday 12/05/2018
LOCATION:The Gap Village shopping centre carpark
DESCRIPTION:https://www.bmwcq.com.au/event-2808960\n\nBMWCQ E30 Register - run and car meet Saturday 12/05/2018\n  Well here we have a really exciting morning for us\, we meet at The Gap village shopping centre (992 Waterworks road\, The Gap) carpark at 7:30am for a 8am sharp departure. We're taking the amazing backroads up through the Sunshine Coast where we plan to stop and group up at the annual Palmwoods Car Festival by around 9:30am where we'll represent BMW Club Queensland and the BMWCQ E30 Register at the event in amongst other classic cars on show.\n  Make sure you register for this fantastic morning to come\, Alec McEwan our register leader will lead us on the run as always.\n  Look forward to see you there. \n  BMWCQ E30 Register crew \n\n
DTSTAMP:20190228T205543Z
END:VEVENT
END:VCALENDAR
