BEGIN:VCALENDAR
VERSION:2.0
METHOD:PUBLISH
BEGIN:VEVENT
UID:WILD_APRICOT_EVENT_2808957_SESSION_1
DTSTART:20180303T213000Z
DTEND:20180304T030000Z
SUMMARY:BMWCQ E36 Register - meet & run 2.0 Sunday 04/03/2018
LOCATION:RAAF base Amberley entrance\, Southern Amberley road\, Amberley
DESCRIPTION:https://www.bmwcq.com.au/event-2808957\n\nWelcome to the BMWCQ E36 Register 2.0 meet and run for 2018.\n  ** Please be aware of recent changes to the start time and location for this event as follows **\n  We meet in front of the F1-11 fighter jet on display in from of RAAF base Amberley\, on Southern Amberley road\, Amberley at 7:30am for a 8:00am sharp departure. \n  Then we saddle up for a fantastic run planned by Brian Alderton (BMWCQ E36 Register leader) just for our 36's taking us through some great western back roads as we head to our lunch venue.\n  Make sure you register for this event not to be missed.\n  BMWCQ E36 Register \n\n
DTSTAMP:20190228T205819Z
END:VEVENT
END:VCALENDAR
