BEGIN:VCALENDAR
VERSION:2.0
METHOD:PUBLISH
BEGIN:VEVENT
UID:WILD_APRICOT_EVENT_2808948_SESSION_1
DTSTART:20180519T140000Z
DTEND:20180520T140000Z
SUMMARY:BMWCQ E36 Register - Run up to the range Sunday 20/05/2018
LOCATION:TBC
DESCRIPTION:https://www.bmwcq.com.au/event-2808948\n\nJoin the BMWCQ E36 Register for a meet and run through western Brisbane through to the range and up to Toowoomba where we will park up together at the annual David Hack event at Toowoomba airport.\n  More details to come closer to the event but register now to ensure you don't miss this great run and meet.\n  BMWCQ E36 Register\n\n
DTSTAMP:20190228T205532Z
END:VEVENT
END:VCALENDAR
