BEGIN:VCALENDAR
VERSION:2.0
METHOD:PUBLISH
BEGIN:VEVENT
UID:WILD_APRICOT_EVENT_2808928_SESSION_1
DTSTART:20180210T070000Z
DTEND:20180210T100000Z
SUMMARY:BMWCQ E30 register - Meet & Run Saturday 10/02/2018
LOCATION:The Village Mount Gravatt shopping centre\, 1932 Logan road Upper Mount Gravatt
DESCRIPTION:https://www.bmwcq.com.au/event-2808928\n\nThe first BMWCQ E30 Register event for the year and we kick off with a meet and a great run to come.\n  Event summary details are:\n  Meet time: 5pm\n  Meet Location: The Village shopping centre 1932 Logan road\, Upper Mount Gravatt. Enter shopping centre carpark from Logan road and head towards the underground carpark we're we'll park up\, socialise\, grab something to eat before heading on our run at dusk.\n  Please ensure you register for the event so we know numbers coming.\n  Thanks\n  BMWCQ E30 Register crew\n  \n\n  \n\n  \n  \n\n  \n\n  \n\n  \n\n  \n\n  \n\n  \n\n  \n\n
DTSTAMP:20190228T205840Z
END:VEVENT
END:VCALENDAR
