BEGIN:VCALENDAR
VERSION:2.0
METHOD:PUBLISH
BEGIN:VEVENT
UID:WILD_APRICOT_EVENT_2779656_SESSION_1
DTSTART:20180126T080000Z
DTEND:20180126T120000Z
SUMMARY:BMWCQ Australia Day Celebrations
LOCATION:Plough Inn South Bank
DESCRIPTION:https://www.bmwcq.com.au/event-2779656\n\n\n\n  \n\n  Once again we return to the Plough Inn South Bank for Australia Day 2018\, and of course we have secured premium upper deck location of optimum firework viewing.\n  Australia Day takes place on a Friday night so you can expect a bigger and more fun filled night than ever before. Bookings are essential so we can ensure adequate seating is available.\n  From the very you to the elderly ALL are welcome\, as always the more the merrier. The Plough Inn will have a band for dancing the night away if you wish. Drinks can be purchased from the bar and you can order any meals that take your fancy at any time. \n  Your Social Team and Club Committee look forward to seeing each and everyone one of you at this\, our first and one of the most enjoyable social events of the year.\n\n
DTSTAMP:20190228T205903Z
END:VEVENT
END:VCALENDAR
