BEGIN:VCALENDAR
VERSION:2.0
METHOD:PUBLISH
BEGIN:VEVENT
UID:WILD_APRICOT_EVENT_2752519_SESSION_1
DTSTART:20180218T213000Z
DTEND:20180219T060000Z
SUMMARY:Rnd 2 2017-18 SCC Sprint Series - Lakeside
LOCATION:Lakeside Park
DESCRIPTION:https://www.bmwcq.com.au/event-2752519\n\nRound 2 of our newly revamped Sommer Car Care 2017-18 Sprint Series\, and  and our first joint event with MX5 Club on a new day\, a Monday.\n  With only 30 spaces available\, they will sell out fast at just $135 for members and $155 for non-members\, for a full day of track fun. Don't delay and get your entry in today to ensure you don't miss out.\n  \n\n  \n\n  \n\n
DTSTAMP:20190228T205829Z
END:VEVENT
END:VCALENDAR
