BEGIN:VCALENDAR
VERSION:2.0
METHOD:PUBLISH
BEGIN:VEVENT
UID:WILD_APRICOT_EVENT_2746530_SESSION_1
DTSTART:20171201T214500Z
DTEND:20171201T223000Z
SUMMARY:Cars and Coffee and InterClub Challenge Trophy Presentation.
LOCATION:Cars & Coffee 37 Turbo Drive – Coorparoo
DESCRIPTION:https://www.bmwcq.com.au/event-2746530\n\nPlease Note\; this is a separate event to our regular club Cars and Coffee - Ipswich events.\n  The presentation of trophies for this years InterClub Challenge Series will take place this Saturday morning at the final Brisbane Cars and Coffee gathering for the year\, at the front of Samios Foods 37 Turbo Dve\, Coorparoo\, from 7:45am.\n  Come along\, have a coffee\, and enjoy some of the spectacular cars on show and support the winners of this years ICC event.\n  BMW Club finished in 5th place this year\, however with many more of the ICC events planned for our calendar next year\, we hope to be better placed next time.\n  http://www.carsandcoffeebrisbane.com/\n\n
DTSTAMP:20190228T210132Z
END:VEVENT
END:VCALENDAR
