BEGIN:VCALENDAR
VERSION:2.0
METHOD:PUBLISH
BEGIN:VEVENT
UID:WILD_APRICOT_EVENT_2667397_SESSION_1
DTSTART:20171029T020000Z
DTEND:20171029T020000Z
SUMMARY:InterClub Day at Norwell - EVENT CANCELLED
LOCATION:Norwell Motorplex
DESCRIPTION:https://www.bmwcq.com.au/event-2667397\n\nInterclub Challenge Sprint\n   Due to noise restrictions at Norwell. The facility is currently closed\, resulting of the cancelation of this event.\n
DTSTAMP:20190228T210311Z
END:VEVENT
END:VCALENDAR
