BEGIN:VCALENDAR
VERSION:2.0
METHOD:PUBLISH
BEGIN:VEVENT
UID:WILD_APRICOT_EVENT_2644662_SESSION_1
DTSTART:20170902T220000Z
DTEND:20170903T030000Z
SUMMARY:Pop Up Event - Maleny Classic Car Show
LOCATION:351 Witta Rd  Witta via Maleny\, 4552 Australia
DESCRIPTION:https://www.bmwcq.com.au/event-2644662\n\n\n  Maleny Classic Car Show\n\n  Join other club members in this fun day of showing your car to the community\, and having a chance to look at many other great cars from individuals and different car clubs.\n  The Maleny Classic Car Show is an annual event\, and this year our club has been invited to come as a group\, as BMW is the highlighted marque this year.   There will be several other groups of BMW owners there\, as they also invited some local E30 groups to attend.  \n  Dealer support this time is from Coastline BMW who will be in attendance.\n  Make our club proud!  Polish up the car on Saturday and join us at Aussie World at 8:00am for a short run up to Maleny with many other car enthusiasts.   If you wish to have your car judged in the show and shine\, registration is $10 on the day.  If you do not wish to be judged then entrance is free.\n  Spend the day in the beautiful surroundings\, great cars and club mates.\n  See you there!\n  http://shownshine.info/qld566.htm\n\n
DTSTAMP:20260424T164952Z
END:VEVENT
END:VCALENDAR
