BEGIN:VCALENDAR
VERSION:2.0
METHOD:PUBLISH
BEGIN:VEVENT
UID:WILD_APRICOT_EVENT_2633652_SESSION_1
DTSTART:20170815T003000Z
DTEND:20170815T014500Z
SUMMARY:Aged Care Visit
LOCATION:Windsor Aged Care Services\, 26 Palmer Street\, Windsor  Qld  4030
DESCRIPTION:https://www.bmwcq.com.au/event-2633652\n\nWindsor Aged Care Services has reached out to BMWCQ to supply some 'show cars' for an event they are holding for some of the old folks in their care.\n  Windsor Aged Care specialise in caring for Alzheimer's sufferers in a residential styled unit complex.\n  They feel it would be interesting and exciting for their residents to have a visit from the club\, and for them to be able to look at some of our fine examples of BMW Engineering.\n\n  If you have a small amount of free time on Tuesday\, why not come along and spread some joy for these people\, who have little to look forward to each day - and perhaps put a smile on a face or two.\n  BMWCQ leads the way with our charity efforts\, and sometimes it's only a small gesture like this that's required.\n \n Please register for the event so that we can gauge numbers and let the organisers know.\n
DTSTAMP:20190228T210741Z
END:VEVENT
END:VCALENDAR
