BEGIN:VCALENDAR
VERSION:2.0
METHOD:PUBLISH
BEGIN:VEVENT
UID:WILD_APRICOT_EVENT_2623386_SESSION_1
DTSTART:20170826T201500Z
DTEND:20170827T013000Z
SUMMARY:Breaky Run #31 - Hinterland Magnificence
LOCATION:Aspley Hypermarket - 59 Albany Creek Rd\, Aspley.
DESCRIPTION:https://www.bmwcq.com.au/event-2623386\n\n\n\n  Its Breaky Run time again.  This time we head back to our northern delights of the Sunshine Coast\, only this time we are dining in one of Australia's most beautiful regions\, the Sunshine Coast Hinterland.  Our breakfast venue is just as beautiful in Mt Coolum at "Curleys on the Boardwalk" Cafe.\n\n  \n We will be meeting at the car park of the Aspley Hypermarket\, 59 Albany Creek Rd\, Aspley at 6:15am sharp and departing at 6:30am so as we miss all the weekend traffic.  Make sure you have a full tank of juice and grab your coffee before you arrive.\n  This will be another memorable run so make sure you register early.\n  \n\n  \n\n
DTSTAMP:20190228T210650Z
END:VEVENT
END:VCALENDAR
