BEGIN:VCALENDAR
VERSION:2.0
METHOD:PUBLISH
BEGIN:VEVENT
UID:WILD_APRICOT_EVENT_2610845_SESSION_1
DTSTART:20171208T100000Z
DTEND:20171208T124500Z
SUMMARY:The Last Supper
LOCATION:To be advised at December Club Meeting
DESCRIPTION:https://www.bmwcq.com.au/event-2610845\n\n\n\n  After the last club meeting (which is held at Westside BMW\, 275 Monier Road\, Darra) for 2017\, we retire to Club Captain Dave Ross's house (5 minutes drive) for some great food\, a few drinks and a catch up with club mates before we break for the Christmas Holidays.   \n\n  This is a "BMWCQ Members and their Guests" only event.\n  The address will be given out at the meeting on the same night.\n  The "Captain" will be be putting on a spread to behold that will include:-\n      * Spicy sticky pork belly wraps\n\n\n        * Moroccan lamb curry & rice\n\n        * Slow cooked vegetable curry & rice\n\n        * BBQ chicken wings\n\n\n        * BBQ beef sliders\n\n\n        * Desserts\n\n        * Dips and snacks\n\n\n  Beer\, wine and soft drinks are also provided.\n\n  You will need to register as we need to know how much to cater for.\n\n  \n\n  \n\n
DTSTAMP:20190228T210042Z
END:VEVENT
END:VCALENDAR
