BEGIN:VCALENDAR
VERSION:2.0
METHOD:PUBLISH
BEGIN:VEVENT
UID:WILD_APRICOT_EVENT_2610844_SESSION_1
DTSTART:20171202T201500Z
DTEND:20171203T013000Z
SUMMARY:BR#32 - Scenic Rim Escape
LOCATION:Orion Shopping Centre\, Main Street Springfield
DESCRIPTION:https://www.bmwcq.com.au/event-2610844\n\n\n\n  G'day all\,\n  Our last Breaky Run of 2017.  We'll finish off the year at the fantastic City Golf Club in Toowoomba.  \n  After breakfast you're free to explore the garden city or run back down the range with the rest of us.\n  We will be meeting at 6:15am at the Orion Shopping Centre Car Park\, Main Street\, Springfield.  First group away at 6:30am.\n\n  Make sure you are fuelled and have a coffee before arriving as we need to leave on time for this run.\n  \n\n
DTSTAMP:20190228T210120Z
END:VEVENT
END:VCALENDAR
